BEGIN:VCALENDAR
VERSION:2.0
PRODID:-//FOHB - ECPv6.15.20//NONSGML v1.0//EN
CALSCALE:GREGORIAN
METHOD:PUBLISH
X-WR-CALNAME:FOHB
X-ORIGINAL-URL:https://fohb.com.br
X-WR-CALDESC:Eventos para FOHB
REFRESH-INTERVAL;VALUE=DURATION:PT1H
X-Robots-Tag:noindex
X-PUBLISHED-TTL:PT1H
BEGIN:VTIMEZONE
TZID:America/Sao_Paulo
BEGIN:STANDARD
TZOFFSETFROM:-0200
TZOFFSETTO:-0300
TZNAME:-03
DTSTART:20190217T020000
END:STANDARD
END:VTIMEZONE
BEGIN:VEVENT
DTSTART;TZID=America/Sao_Paulo:20200521T083000
DTEND;TZID=America/Sao_Paulo:20200521T120000
DTSTAMP:20260421T083234
CREATED:20200309T140720Z
LAST-MODIFIED:20200309T140720Z
UID:3123-1590049800-1590062400@fohb.com.br
SUMMARY:TOTVS Recife
DESCRIPTION:
URL:https://fohb.com.br/eventos/totvs-recife/
CATEGORIES:Treinamento
ATTACH;FMTTYPE=image/png:https://fohb.com.br/wp-content/uploads/2018/01/totvs.png
ORGANIZER;CN="FOHB":MAILTO:eventos@fohb.com.br
END:VEVENT
END:VCALENDAR